{"text_format":"1","workbook":"xlsx","n_sheets":1,"sheets":["Classifica"],"not_rendered":{"charts":0,"images":2,"macros":1,"external_links":0,"defined_names":2,"comments":0,"pivot_tables":0},"unopened":[],"bounds":{"document_bytes":16777216,"sheet_cells":100000,"rows_first":2000,"rows_last":500,"rows_between":2000,"halvings":0,"cell_chars":16384,"cell_head_chars":4096},"cells_cut":0,"cells_raw":0,"read":"whole","date_system":"1900"}

{"sheet":"Classifica","index":0,"n_rows":249,"n_cols":7,"rows_kept":249,"cut":false,"hidden":false,"merged":[[0,1,0,5]]}
[null,"CLASSIFICA HERO ALL TIME      "]
["Posizione","Nome","Cognome","Sesso","Team","Tempo ","ANNO"]
[1,"DAGOSTINO","STEFANO","M","VALSUSA RUNNING TEAM","04:55:10",2018]
[2,"ANDREA","MATTEUCCI","M","BERGTEAM","05:05:07",2018]
[3,"EZIO","SARDANAPOLI","M","ASD VALLI DI LANZO","05:05:07",2018]
[4,"EZIO","SARDANAPOLI","M","ASD VALLI DI LANZO","05:10:26",2017]
[5,"MARZOLINO","STEFANO","M","ATLETICA SUSA ADRIANO ASCHIERIS","05:10:46",2018]
[6,"VALLA","OLIVIER","M","ULTRA TAAAAAC TEAM","05:13:02",2018]
[7,"MARCO","NUTI","M","LIBERO","05:15:34",2017]
[8,"ZUCCONI","FRANCESCO","M","ATLETICA GIO' 22 RIVERA","05:19:53",2018]
[9,"FABIO","BETTONI","M","ASD OULX TRAILERS","05:25:59",2017]
[10,"JEROME","GINGREAU","M","VALSUSA RUNNING TEAM","05:26:37",2017]
[11,"BERTINO","CHIARA","F","PODISTICA TORINO","05:31:59",2018]
[12,"CECCHELANI","OMAR DAVIDE","M","TEAM MARATHON","05:34:13",2018]
[13,"DIEGO","MARITANO","M","VALSUSA RUNNING TEAM","05:34:48",2017]
[14,"MARCO","MILANESI","M","LIBERO","05:34:56",2017]
[15,"FRANCESCA","CANEPA","F","MONTBLANC TEAM","05:36:35",2017]
[16,"PAJARO","PAOLO","M","BERGAMO STARS","05:37:46",2018]
[17,"MARCO","GOZZANO","M","LIBERO","05:42:31",2017]
[18,"GOZZANO","MARCO","M","GRUPPO SPORTIVO INTERFORZE TORINO","05:43:10",2018]
[19,"SCARDAMAGLIA","SALVATORE","M","G.S. MONCENISIO","05:45:58",2018]
[20,"DARIO","PASTA","M","VALMALONE","05:46:38",2017]
[21,"ENRICO","FERRERO","M","A.S.D. SUSA BIKE","05:46:47",2017]
[22,"GIANCARLO","ANNOVAZZI","M","MELLO'S TEAM","05:47:32",2017]
[23,"CANEPA","ALESSANDRO","M","U.S. SAN MICHELE","05:55:29",2018]
[24,"MARZOLINO","ANDREA","M","ATLETICA SUSA ADRIANO ASCHIERIS","05:55:58",2018]
[25,"ANDREA","VESCO","M","A.S.D. PODISTICA DORA BALTEA","05:56:06",2017]
[26,"DIEGO","DEMO","M","VALSUSA RUNNING TEAM","05:56:32",2017]
[27,"FILIPPO","MOIRANO","M","LIBERO","05:56:43",2017]
[28,"NEGRA","ELISABETTA","F","TEAM SCOTT INRUN","06:05:57",2018]
[29,"PANERO","EZIO","M","SPORTIFICATION","06:10:53",2018]
[30,"LORENZO","SPADACCIO","M","VALSUSA RUNNING TEAM","06:12:53",2017]
[31,"DAVIDE","CAMPANA","M","MICHELIN SPORT CLUB","06:19:20",2017]
[32,"CRISTIANO","ROLLO","M","C.C.R.S. ALPINI TROFARELLO","06:22:41",2017]
[33,"MARCO","MILANESIO","M","LIBERO","06:23:00",2017]
[34,"CARMELO","PERRONE","M","ATLETICA GIO 22 RIVERA","06:23:27",2017]
[35,"GUIDO","ALFONSI","M","US SAN MICHELE","06:24:30",2017]
[36,"STELLA","FRANCESCO","M","U.S. SAN MICHELE","06:24:50",2018]
[37,"GIUSEPPE","SERRA","M","A.S.D. PODISTICA DORA BALTEA","06:25:02",2017]
[38,"MAURIZIO","DEMO","M","VALSUSA RUNNING TEAM","06:26:43",2017]
[39,"BAIARDI","LUCA","M","LIBERO","06:26:49",2018]
[40,"MARCO","ROZ","M","GESES SPORT","06:36:28",2017]
[41,"MARCO","BESSON","M","SPORT CLUB ANGROGNA","06:37:08",2017]
[42,"FABIO","BOGGIA","M","VALSUSA RUNNING TEAM","06:38:01",2017]
[43,"MATTEO","MUTTI","M","AMICI DEL MOMBARONE","06:38:31",2017]
[44,"MENEGON","ALAN","M","ATLETICA SUSA ADRIANO ASCHIERIS","06:39:36",2018]
[45,"FEDERICA","ZINFOLINO","F","ASD ORCHI TRAILERS","06:43:01",2017]
[46,"FRANCESCA","BELLEZZA","F","VALSUSA RUNNING TEAM","06:43:34",2017]
[47,"GIGLIOTTI","FABRIZIO","M","VALSUSA RUNNING TEAM","06:47:10",2018]
[48,"PARISI","MASSIMILIANO","M","VALSUSA RUNNING TEAM","06:47:10",2018]
[49,"ENRICO","VILLA","M","RUNCARD","06:47:44",2017]
[50,"DANIELE","BARRECA","M","LIBERO","06:48:30",2017]
[51,"MORGANA","REGE","F","ATLETICA GIO 22 RIVERA","06:48:40",2017]
[52,"PAOLO FRANCESCO","MAGLIANO","M","RUNCARD","06:56:09",2017]
[53,"VERGANO","FEDERICA","F","CRAL PIEMONTE","06:56:37",2018]
[54,"GABRIELE","BARRA","M","S.D. BAUDENASCA","06:57:44",2017]
[55,"DANIELE","ROLLO","M","C.C.R.S. ALPINI TROFARELLO","06:58:12",2017]
[56,"DEMO","MAURIZIO","M","VALSUSA RUNNING TEAM","07:00:41",2018]
[57,"INCISA","ENRICO","M","LIBERO","07:03:40",2018]
[58,"ENRICA","GOUTHIER","F","NON SOLO TRAIL","07:04:08",2017]
[59,"TIZIANO","BISAZZA","M","SPIRITO TRAIL","07:04:08",2017]
[60,"MENARDI","GIOVANNI","M","LIBERO","07:05:51",2018]
[61,"FORCELLA","STEFANO","M","ALTITUDE  RACE","07:14:51",2018]
[62,"DINO ","NOLLY","M","LIBERO","07:16:24",2017]
[63,"SANDRO","TREVISAN","M","LIBERO","07:16:36",2017]
[64,"REGE","MORGANA","F","ATLETICA GIO 22 RIVERA","07:19:18",2018]
[65,"ROBERTO","SPADAVECCHIA","M","LIBERO","07:20:09",2017]
[66,"ROSARIO","PARISI","M","VALSUSA RUNNING TEAM","07:21:01",2017]
[67,"BOBBA","GABRIELE","M","VALSUSA RUNNING TEAM","07:24:35",2018]
[68,"STEFANO","BARAGIOTTA","M","LIBERO","07:25:12",2017]
[69,"FLAVIO","CARGNIN","M","LIBERO","07:25:17",2017]
[70,"ROSANNA","GOGGI","F","U.S. SAN MICHELE","07:32:05",2017]
[71,"PAOLO","RONDI","M","GS ERMENEGILDO ZEGNA","07:36:32",2017]
[72,"ALESSANDRO","BUFFA","M","ASD PODISTICA DORA BALTEA","07:39:35",2017]
[73,"PINCETTI","ENRICO","M","SAI FRECCE BIANCHE","07:39:58",2018]
[74,"DANIELE","PORTINARO","M","ASD PODISTICA DEGLI AMICI DI PIANEZZA","07:41:28",2017]
[75,"MANUEL","SALAMON","M","ALPINI TROFARELLO","07:41:35",2017]
[76,"ROBINO","RENZO","M","LIBERO","07:42:42",2018]
[77,"FABIO","GIANOLA","M","OTC COMO","07:45:37",2017]
[78,"PAOLO","BIASINI","M","A.S.D.LUPI D'APPENNINO","07:45:53",2017]
[79,"BEATRICE","NANI","F","3 MORI RUNNING ASD","07:45:53",2017]
[80,"STEFANO","NEGRO","M","RUNCARD","07:49:23",2017]
[81,"ALBERTO","MORELLI","M","LIBERO","07:50:11",2017]
[82,"PATRIZIA","MARTELLI","F","A.S.D. VALLI DI LANZO","07:50:28",2017]
[83,"CENA","LUCA","M","LIBERO","07:54:26",2018]
[84,"LAURA","EMANUEL","F","RHO TRIATHLON","07:58:03",2017]
[85,"FULVIO","MAVARACCHIO","M","TEAM OTC SSD ARL","07:58:18",2017]
[86,"OVIDIU BOGDAN","VARLAM","M","LIBERO","07:59:36",2017]
[87,"CHIARA","BORELLO","F","LIBERTAS SERGIO BENELLI","08:04:39",2017]
[88,"SAVINO","DIEGO","M","U.S. SAN MICHELE","08:05:24",2018]
[89,"GROSSO","VANESSA","F","U.S. SAN MICHELE","08:05:24",2018]
[90,"PIER UGO","ALASONATTI","M","VALSUSA RUNNING TEAM","08:08:03",2017]
[91,"MARCO","FACCENDA","M","SPORTIFICATION","08:08:28",2017]
[92,"BARBAFIERA","CARLO","M","TAPASCIONE RUNNING TEAM","08:47:50",2018]
[93,"RAZZINI","MASSIMILIANO","M","ASD TAPASCIONE RUNNING TEAM","08:47:50",2018]
[94,"INCISA","TOMASO","M","INCISA DREAM TEAM","08:54:04",2018]
[null,{"$f":"IFERROR(VLOOKUP(#REF!,#REF!,3,0),\"\")","v":""},{"$f":"IFERROR(VLOOKUP(#REF!,#REF!,4,0),\"\")","v":""},{"$f":"IFERROR(VLOOKUP(#REF!,#REF!,5,0),\"\")","v":""},{"$f":"IFERROR(VLOOKUP(#REF!,#REF!,7,0),\"\")","v":""}]
[null,{"$f":"IFERROR(VLOOKUP(#REF!,#REF!,3,0),\"\")","v":""},{"$f":"IFERROR(VLOOKUP(#REF!,#REF!,4,0),\"\")","v":""},{"$f":"IFERROR(VLOOKUP(#REF!,#REF!,5,0),\"\")","v":""},{"$f":"IFERROR(VLOOKUP(#REF!,#REF!,7,0),\"\")","v":""}]
[null,{"$f":"IFERROR(VLOOKUP(#REF!,#REF!,3,0),\"\")","v":""},{"$f":"IFERROR(VLOOKUP(#REF!,#REF!,4,0),\"\")","v":""},{"$f":"IFERROR(VLOOKUP(#REF!,#REF!,5,0),\"\")","v":""},{"$f":"IFERROR(VLOOKUP(#REF!,#REF!,7,0),\"\")","v":""}]
[null,{"$f":"IFERROR(VLOOKUP(#REF!,#REF!,3,0),\"\")","v":""},{"$f":"IFERROR(VLOOKUP(#REF!,#REF!,4,0),\"\")","v":""},{"$f":"IFERROR(VLOOKUP(#REF!,#REF!,5,0),\"\")","v":""},{"$f":"IFERROR(VLOOKUP(#REF!,#REF!,7,0),\"\")","v":""}]
[null,{"$f":"IFERROR(VLOOKUP(#REF!,#REF!,3,0),\"\")","v":""},{"$f":"IFERROR(VLOOKUP(#REF!,#REF!,4,0),\"\")","v":""},{"$f":"IFERROR(VLOOKUP(#REF!,#REF!,5,0),\"\")","v":""},{"$f":"IFERROR(VLOOKUP(#REF!,#REF!,7,0),\"\")","v":""}]
[null,{"$f":"IFERROR(VLOOKUP(#REF!,#REF!,3,0),\"\")","v":""},{"$f":"IFERROR(VLOOKUP(#REF!,#REF!,4,0),\"\")","v":""},{"$f":"IFERROR(VLOOKUP(#REF!,#REF!,5,0),\"\")","v":""},{"$f":"IFERROR(VLOOKUP(#REF!,#REF!,7,0),\"\")","v":""}]
[null,{"$f":"IFERROR(VLOOKUP(#REF!,#REF!,3,0),\"\")","v":""},{"$f":"IFERROR(VLOOKUP(#REF!,#REF!,4,0),\"\")","v":""},{"$f":"IFERROR(VLOOKUP(#REF!,#REF!,5,0),\"\")","v":""},{"$f":"IFERROR(VLOOKUP(#REF!,#REF!,7,0),\"\")","v":""}]
[null,{"$f":"IFERROR(VLOOKUP(#REF!,#REF!,3,0),\"\")","v":""},{"$f":"IFERROR(VLOOKUP(#REF!,#REF!,4,0),\"\")","v":""},{"$f":"IFERROR(VLOOKUP(#REF!,#REF!,5,0),\"\")","v":""},{"$f":"IFERROR(VLOOKUP(#REF!,#REF!,7,0),\"\")","v":""}]
[null,{"$f":"IFERROR(VLOOKUP(#REF!,#REF!,3,0),\"\")","v":""},{"$f":"IFERROR(VLOOKUP(#REF!,#REF!,4,0),\"\")","v":""},{"$f":"IFERROR(VLOOKUP(#REF!,#REF!,5,0),\"\")","v":""},{"$f":"IFERROR(VLOOKUP(#REF!,#REF!,7,0),\"\")","v":""}]
[null,{"$f":"IFERROR(VLOOKUP(#REF!,#REF!,3,0),\"\")","v":""},{"$f":"IFERROR(VLOOKUP(#REF!,#REF!,4,0),\"\")","v":""},{"$f":"IFERROR(VLOOKUP(#REF!,#REF!,5,0),\"\")","v":""},{"$f":"IFERROR(VLOOKUP(#REF!,#REF!,7,0),\"\")","v":""}]
[null,{"$f":"IFERROR(VLOOKUP(#REF!,#REF!,3,0),\"\")","v":""},{"$f":"IFERROR(VLOOKUP(#REF!,#REF!,4,0),\"\")","v":""},{"$f":"IFERROR(VLOOKUP(#REF!,#REF!,5,0),\"\")","v":""},{"$f":"IFERROR(VLOOKUP(#REF!,#REF!,7,0),\"\")","v":""}]
[null,{"$f":"IFERROR(VLOOKUP(#REF!,#REF!,3,0),\"\")","v":""},{"$f":"IFERROR(VLOOKUP(#REF!,#REF!,4,0),\"\")","v":""},{"$f":"IFERROR(VLOOKUP(#REF!,#REF!,5,0),\"\")","v":""},{"$f":"IFERROR(VLOOKUP(#REF!,#REF!,7,0),\"\")","v":""}]
[null,{"$f":"IFERROR(VLOOKUP(#REF!,#REF!,3,0),\"\")","v":""},{"$f":"IFERROR(VLOOKUP(#REF!,#REF!,4,0),\"\")","v":""},{"$f":"IFERROR(VLOOKUP(#REF!,#REF!,5,0),\"\")","v":""},{"$f":"IFERROR(VLOOKUP(#REF!,#REF!,7,0),\"\")","v":""}]
[null,{"$f":"IFERROR(VLOOKUP(#REF!,#REF!,3,0),\"\")","v":""},{"$f":"IFERROR(VLOOKUP(#REF!,#REF!,4,0),\"\")","v":""},{"$f":"IFERROR(VLOOKUP(#REF!,#REF!,5,0),\"\")","v":""},{"$f":"IFERROR(VLOOKUP(#REF!,#REF!,7,0),\"\")","v":""}]
[null,{"$f":"IFERROR(VLOOKUP(#REF!,#REF!,3,0),\"\")","v":""},{"$f":"IFERROR(VLOOKUP(#REF!,#REF!,4,0),\"\")","v":""},{"$f":"IFERROR(VLOOKUP(#REF!,#REF!,5,0),\"\")","v":""},{"$f":"IFERROR(VLOOKUP(#REF!,#REF!,7,0),\"\")","v":""}]
[null,{"$f":"IFERROR(VLOOKUP(#REF!,#REF!,3,0),\"\")","v":""},{"$f":"IFERROR(VLOOKUP(#REF!,#REF!,4,0),\"\")","v":""},{"$f":"IFERROR(VLOOKUP(#REF!,#REF!,5,0),\"\")","v":""},{"$f":"IFERROR(VLOOKUP(#REF!,#REF!,7,0),\"\")","v":""}]
[null,{"$f":"IFERROR(VLOOKUP(#REF!,#REF!,3,0),\"\")","v":""},{"$f":"IFERROR(VLOOKUP(#REF!,#REF!,4,0),\"\")","v":""},{"$f":"IFERROR(VLOOKUP(#REF!,#REF!,5,0),\"\")","v":""},{"$f":"IFERROR(VLOOKUP(#REF!,#REF!,7,0),\"\")","v":""}]
[null,{"$f":"IFERROR(VLOOKUP(#REF!,#REF!,3,0),\"\")","v":""},{"$f":"IFERROR(VLOOKUP(#REF!,#REF!,4,0),\"\")","v":""},{"$f":"IFERROR(VLOOKUP(#REF!,#REF!,5,0),\"\")","v":""},{"$f":"IFERROR(VLOOKUP(#REF!,#REF!,7,0),\"\")","v":""}]
[null,{"$f":"IFERROR(VLOOKUP(#REF!,#REF!,3,0),\"\")","v":""},{"$f":"IFERROR(VLOOKUP(#REF!,#REF!,4,0),\"\")","v":""},{"$f":"IFERROR(VLOOKUP(#REF!,#REF!,5,0),\"\")","v":""},{"$f":"IFERROR(VLOOKUP(#REF!,#REF!,7,0),\"\")","v":""}]
[null,{"$f":"IFERROR(VLOOKUP(#REF!,#REF!,3,0),\"\")","v":""},{"$f":"IFERROR(VLOOKUP(#REF!,#REF!,4,0),\"\")","v":""},{"$f":"IFERROR(VLOOKUP(#REF!,#REF!,5,0),\"\")","v":""},{"$f":"IFERROR(VLOOKUP(#REF!,#REF!,7,0),\"\")","v":""}]
[null,{"$f":"IFERROR(VLOOKUP(#REF!,#REF!,3,0),\"\")","v":""},{"$f":"IFERROR(VLOOKUP(#REF!,#REF!,4,0),\"\")","v":""},{"$f":"IFERROR(VLOOKUP(#REF!,#REF!,5,0),\"\")","v":""},{"$f":"IFERROR(VLOOKUP(#REF!,#REF!,7,0),\"\")","v":""}]
[null,{"$f":"IFERROR(VLOOKUP(#REF!,#REF!,3,0),\"\")","v":""},{"$f":"IFERROR(VLOOKUP(#REF!,#REF!,4,0),\"\")","v":""},{"$f":"IFERROR(VLOOKUP(#REF!,#REF!,5,0),\"\")","v":""},{"$f":"IFERROR(VLOOKUP(#REF!,#REF!,7,0),\"\")","v":""}]
[null,{"$f":"IFERROR(VLOOKUP(#REF!,#REF!,3,0),\"\")","v":""},{"$f":"IFERROR(VLOOKUP(#REF!,#REF!,4,0),\"\")","v":""},{"$f":"IFERROR(VLOOKUP(#REF!,#REF!,5,0),\"\")","v":""},{"$f":"IFERROR(VLOOKUP(#REF!,#REF!,7,0),\"\")","v":""}]
[null,{"$f":"IFERROR(VLOOKUP(#REF!,#REF!,3,0),\"\")","v":""},{"$f":"IFERROR(VLOOKUP(#REF!,#REF!,4,0),\"\")","v":""},{"$f":"IFERROR(VLOOKUP(#REF!,#REF!,5,0),\"\")","v":""},{"$f":"IFERROR(VLOOKUP(#REF!,#REF!,7,0),\"\")","v":""}]
[null,{"$f":"IFERROR(VLOOKUP(#REF!,#REF!,3,0),\"\")","v":""},{"$f":"IFERROR(VLOOKUP(#REF!,#REF!,4,0),\"\")","v":""},{"$f":"IFERROR(VLOOKUP(#REF!,#REF!,5,0),\"\")","v":""},{"$f":"IFERROR(VLOOKUP(#REF!,#REF!,7,0),\"\")","v":""}]
[null,{"$f":"IFERROR(VLOOKUP(#REF!,#REF!,3,0),\"\")","v":""},{"$f":"IFERROR(VLOOKUP(#REF!,#REF!,4,0),\"\")","v":""},{"$f":"IFERROR(VLOOKUP(#REF!,#REF!,5,0),\"\")","v":""},{"$f":"IFERROR(VLOOKUP(#REF!,#REF!,7,0),\"\")","v":""}]
[null,{"$f":"IFERROR(VLOOKUP(#REF!,#REF!,3,0),\"\")","v":""},{"$f":"IFERROR(VLOOKUP(#REF!,#REF!,4,0),\"\")","v":""},{"$f":"IFERROR(VLOOKUP(#REF!,#REF!,5,0),\"\")","v":""},{"$f":"IFERROR(VLOOKUP(#REF!,#REF!,7,0),\"\")","v":""}]
[null,{"$f":"IFERROR(VLOOKUP(#REF!,#REF!,3,0),\"\")","v":""},{"$f":"IFERROR(VLOOKUP(#REF!,#REF!,4,0),\"\")","v":""},{"$f":"IFERROR(VLOOKUP(#REF!,#REF!,5,0),\"\")","v":""},{"$f":"IFERROR(VLOOKUP(#REF!,#REF!,7,0),\"\")","v":""}]
[null,{"$f":"IFERROR(VLOOKUP(#REF!,#REF!,3,0),\"\")","v":""},{"$f":"IFERROR(VLOOKUP(#REF!,#REF!,4,0),\"\")","v":""},{"$f":"IFERROR(VLOOKUP(#REF!,#REF!,5,0),\"\")","v":""},{"$f":"IFERROR(VLOOKUP(#REF!,#REF!,7,0),\"\")","v":""}]
[null,{"$f":"IFERROR(VLOOKUP(#REF!,#REF!,3,0),\"\")","v":""},{"$f":"IFERROR(VLOOKUP(#REF!,#REF!,4,0),\"\")","v":""},{"$f":"IFERROR(VLOOKUP(#REF!,#REF!,5,0),\"\")","v":""},{"$f":"IFERROR(VLOOKUP(#REF!,#REF!,7,0),\"\")","v":""}]
[null,{"$f":"IFERROR(VLOOKUP(#REF!,#REF!,3,0),\"\")","v":""},{"$f":"IFERROR(VLOOKUP(#REF!,#REF!,4,0),\"\")","v":""},{"$f":"IFERROR(VLOOKUP(#REF!,#REF!,5,0),\"\")","v":""},{"$f":"IFERROR(VLOOKUP(#REF!,#REF!,7,0),\"\")","v":""}]
[null,{"$f":"IFERROR(VLOOKUP(#REF!,#REF!,3,0),\"\")","v":""},{"$f":"IFERROR(VLOOKUP(#REF!,#REF!,4,0),\"\")","v":""},{"$f":"IFERROR(VLOOKUP(#REF!,#REF!,5,0),\"\")","v":""},{"$f":"IFERROR(VLOOKUP(#REF!,#REF!,7,0),\"\")","v":""}]
[null,{"$f":"IFERROR(VLOOKUP(#REF!,#REF!,3,0),\"\")","v":""},{"$f":"IFERROR(VLOOKUP(#REF!,#REF!,4,0),\"\")","v":""},{"$f":"IFERROR(VLOOKUP(#REF!,#REF!,5,0),\"\")","v":""},{"$f":"IFERROR(VLOOKUP(#REF!,#REF!,7,0),\"\")","v":""}]
[null,{"$f":"IFERROR(VLOOKUP(#REF!,#REF!,3,0),\"\")","v":""},{"$f":"IFERROR(VLOOKUP(#REF!,#REF!,4,0),\"\")","v":""},{"$f":"IFERROR(VLOOKUP(#REF!,#REF!,5,0),\"\")","v":""},{"$f":"IFERROR(VLOOKUP(#REF!,#REF!,7,0),\"\")","v":""}]
[null,{"$f":"IFERROR(VLOOKUP(#REF!,#REF!,3,0),\"\")","v":""},{"$f":"IFERROR(VLOOKUP(#REF!,#REF!,4,0),\"\")","v":""},{"$f":"IFERROR(VLOOKUP(#REF!,#REF!,5,0),\"\")","v":""},{"$f":"IFERROR(VLOOKUP(#REF!,#REF!,7,0),\"\")","v":""}]
[null,{"$f":"IFERROR(VLOOKUP(#REF!,#REF!,3,0),\"\")","v":""},{"$f":"IFERROR(VLOOKUP(#REF!,#REF!,4,0),\"\")","v":""},{"$f":"IFERROR(VLOOKUP(#REF!,#REF!,5,0),\"\")","v":""},{"$f":"IFERROR(VLOOKUP(#REF!,#REF!,7,0),\"\")","v":""}]
[null,{"$f":"IFERROR(VLOOKUP(#REF!,#REF!,3,0),\"\")","v":""},{"$f":"IFERROR(VLOOKUP(#REF!,#REF!,4,0),\"\")","v":""},{"$f":"IFERROR(VLOOKUP(#REF!,#REF!,5,0),\"\")","v":""},{"$f":"IFERROR(VLOOKUP(#REF!,#REF!,7,0),\"\")","v":""}]
[null,{"$f":"IFERROR(VLOOKUP(#REF!,#REF!,3,0),\"\")","v":""},{"$f":"IFERROR(VLOOKUP(#REF!,#REF!,4,0),\"\")","v":""},{"$f":"IFERROR(VLOOKUP(#REF!,#REF!,5,0),\"\")","v":""},{"$f":"IFERROR(VLOOKUP(#REF!,#REF!,7,0),\"\")","v":""}]
[null,{"$f":"IFERROR(VLOOKUP(#REF!,#REF!,3,0),\"\")","v":""},{"$f":"IFERROR(VLOOKUP(#REF!,#REF!,4,0),\"\")","v":""},{"$f":"IFERROR(VLOOKUP(#REF!,#REF!,5,0),\"\")","v":""},{"$f":"IFERROR(VLOOKUP(#REF!,#REF!,7,0),\"\")","v":""}]
[null,{"$f":"IFERROR(VLOOKUP(#REF!,#REF!,3,0),\"\")","v":""},{"$f":"IFERROR(VLOOKUP(#REF!,#REF!,4,0),\"\")","v":""},{"$f":"IFERROR(VLOOKUP(#REF!,#REF!,5,0),\"\")","v":""},{"$f":"IFERROR(VLOOKUP(#REF!,#REF!,7,0),\"\")","v":""}]
[null,{"$f":"IFERROR(VLOOKUP(#REF!,#REF!,3,0),\"\")","v":""},{"$f":"IFERROR(VLOOKUP(#REF!,#REF!,4,0),\"\")","v":""},{"$f":"IFERROR(VLOOKUP(#REF!,#REF!,5,0),\"\")","v":""},{"$f":"IFERROR(VLOOKUP(#REF!,#REF!,7,0),\"\")","v":""}]
[null,{"$f":"IFERROR(VLOOKUP(#REF!,#REF!,3,0),\"\")","v":""},{"$f":"IFERROR(VLOOKUP(#REF!,#REF!,4,0),\"\")","v":""},{"$f":"IFERROR(VLOOKUP(#REF!,#REF!,5,0),\"\")","v":""},{"$f":"IFERROR(VLOOKUP(#REF!,#REF!,7,0),\"\")","v":""}]
[null,{"$f":"IFERROR(VLOOKUP(#REF!,#REF!,3,0),\"\")","v":""},{"$f":"IFERROR(VLOOKUP(#REF!,#REF!,4,0),\"\")","v":""},{"$f":"IFERROR(VLOOKUP(#REF!,#REF!,5,0),\"\")","v":""},{"$f":"IFERROR(VLOOKUP(#REF!,#REF!,7,0),\"\")","v":""}]
[null,{"$f":"IFERROR(VLOOKUP(#REF!,#REF!,3,0),\"\")","v":""},{"$f":"IFERROR(VLOOKUP(#REF!,#REF!,4,0),\"\")","v":""},{"$f":"IFERROR(VLOOKUP(#REF!,#REF!,5,0),\"\")","v":""},{"$f":"IFERROR(VLOOKUP(#REF!,#REF!,7,0),\"\")","v":""}]
[null,{"$f":"IFERROR(VLOOKUP(#REF!,#REF!,3,0),\"\")","v":""},{"$f":"IFERROR(VLOOKUP(#REF!,#REF!,4,0),\"\")","v":""},{"$f":"IFERROR(VLOOKUP(#REF!,#REF!,5,0),\"\")","v":""},{"$f":"IFERROR(VLOOKUP(#REF!,#REF!,7,0),\"\")","v":""}]
[null,{"$f":"IFERROR(VLOOKUP(#REF!,#REF!,3,0),\"\")","v":""},{"$f":"IFERROR(VLOOKUP(#REF!,#REF!,4,0),\"\")","v":""},{"$f":"IFERROR(VLOOKUP(#REF!,#REF!,5,0),\"\")","v":""},{"$f":"IFERROR(VLOOKUP(#REF!,#REF!,7,0),\"\")","v":""}]
[null,{"$f":"IFERROR(VLOOKUP(#REF!,#REF!,3,0),\"\")","v":""},{"$f":"IFERROR(VLOOKUP(#REF!,#REF!,4,0),\"\")","v":""},{"$f":"IFERROR(VLOOKUP(#REF!,#REF!,5,0),\"\")","v":""},{"$f":"IFERROR(VLOOKUP(#REF!,#REF!,7,0),\"\")","v":""}]
[null,{"$f":"IFERROR(VLOOKUP(#REF!,#REF!,3,0),\"\")","v":""},{"$f":"IFERROR(VLOOKUP(#REF!,#REF!,4,0),\"\")","v":""},{"$f":"IFERROR(VLOOKUP(#REF!,#REF!,5,0),\"\")","v":""},{"$f":"IFERROR(VLOOKUP(#REF!,#REF!,7,0),\"\")","v":""}]
[null,{"$f":"IFERROR(VLOOKUP(#REF!,#REF!,3,0),\"\")","v":""},{"$f":"IFERROR(VLOOKUP(#REF!,#REF!,4,0),\"\")","v":""},{"$f":"IFERROR(VLOOKUP(#REF!,#REF!,5,0),\"\")","v":""},{"$f":"IFERROR(VLOOKUP(#REF!,#REF!,7,0),\"\")","v":""}]
[null,{"$f":"IFERROR(VLOOKUP(#REF!,#REF!,3,0),\"\")","v":""},{"$f":"IFERROR(VLOOKUP(#REF!,#REF!,4,0),\"\")","v":""},{"$f":"IFERROR(VLOOKUP(#REF!,#REF!,5,0),\"\")","v":""},{"$f":"IFERROR(VLOOKUP(#REF!,#REF!,7,0),\"\")","v":""}]
[null,{"$f":"IFERROR(VLOOKUP(#REF!,#REF!,3,0),\"\")","v":""},{"$f":"IFERROR(VLOOKUP(#REF!,#REF!,4,0),\"\")","v":""},{"$f":"IFERROR(VLOOKUP(#REF!,#REF!,5,0),\"\")","v":""},{"$f":"IFERROR(VLOOKUP(#REF!,#REF!,7,0),\"\")","v":""}]
[null,{"$f":"IFERROR(VLOOKUP(#REF!,#REF!,3,0),\"\")","v":""},{"$f":"IFERROR(VLOOKUP(#REF!,#REF!,4,0),\"\")","v":""},{"$f":"IFERROR(VLOOKUP(#REF!,#REF!,5,0),\"\")","v":""},{"$f":"IFERROR(VLOOKUP(#REF!,#REF!,7,0),\"\")","v":""}]
[null,{"$f":"IFERROR(VLOOKUP(#REF!,#REF!,3,0),\"\")","v":""},{"$f":"IFERROR(VLOOKUP(#REF!,#REF!,4,0),\"\")","v":""},{"$f":"IFERROR(VLOOKUP(#REF!,#REF!,5,0),\"\")","v":""},{"$f":"IFERROR(VLOOKUP(#REF!,#REF!,7,0),\"\")","v":""}]
[null,{"$f":"IFERROR(VLOOKUP(#REF!,#REF!,3,0),\"\")","v":""},{"$f":"IFERROR(VLOOKUP(#REF!,#REF!,4,0),\"\")","v":""},{"$f":"IFERROR(VLOOKUP(#REF!,#REF!,5,0),\"\")","v":""},{"$f":"IFERROR(VLOOKUP(#REF!,#REF!,7,0),\"\")","v":""}]
[null,{"$f":"IFERROR(VLOOKUP(#REF!,#REF!,3,0),\"\")","v":""},{"$f":"IFERROR(VLOOKUP(#REF!,#REF!,4,0),\"\")","v":""},{"$f":"IFERROR(VLOOKUP(#REF!,#REF!,5,0),\"\")","v":""},{"$f":"IFERROR(VLOOKUP(#REF!,#REF!,7,0),\"\")","v":""}]
[null,{"$f":"IFERROR(VLOOKUP(#REF!,#REF!,3,0),\"\")","v":""},{"$f":"IFERROR(VLOOKUP(#REF!,#REF!,4,0),\"\")","v":""},{"$f":"IFERROR(VLOOKUP(#REF!,#REF!,5,0),\"\")","v":""},{"$f":"IFERROR(VLOOKUP(#REF!,#REF!,7,0),\"\")","v":""}]
[null,{"$f":"IFERROR(VLOOKUP(#REF!,#REF!,3,0),\"\")","v":""},{"$f":"IFERROR(VLOOKUP(#REF!,#REF!,4,0),\"\")","v":""},{"$f":"IFERROR(VLOOKUP(#REF!,#REF!,5,0),\"\")","v":""},{"$f":"IFERROR(VLOOKUP(#REF!,#REF!,7,0),\"\")","v":""}]
[null,{"$f":"IFERROR(VLOOKUP(#REF!,#REF!,3,0),\"\")","v":""},{"$f":"IFERROR(VLOOKUP(#REF!,#REF!,4,0),\"\")","v":""},{"$f":"IFERROR(VLOOKUP(#REF!,#REF!,5,0),\"\")","v":""},{"$f":"IFERROR(VLOOKUP(#REF!,#REF!,7,0),\"\")","v":""}]
[null,{"$f":"IFERROR(VLOOKUP(#REF!,#REF!,3,0),\"\")","v":""},{"$f":"IFERROR(VLOOKUP(#REF!,#REF!,4,0),\"\")","v":""},{"$f":"IFERROR(VLOOKUP(#REF!,#REF!,5,0),\"\")","v":""},{"$f":"IFERROR(VLOOKUP(#REF!,#REF!,7,0),\"\")","v":""}]
[null,{"$f":"IFERROR(VLOOKUP(#REF!,#REF!,3,0),\"\")","v":""},{"$f":"IFERROR(VLOOKUP(#REF!,#REF!,4,0),\"\")","v":""},{"$f":"IFERROR(VLOOKUP(#REF!,#REF!,5,0),\"\")","v":""},{"$f":"IFERROR(VLOOKUP(#REF!,#REF!,7,0),\"\")","v":""}]
[null,{"$f":"IFERROR(VLOOKUP(#REF!,#REF!,3,0),\"\")","v":""},{"$f":"IFERROR(VLOOKUP(#REF!,#REF!,4,0),\"\")","v":""},{"$f":"IFERROR(VLOOKUP(#REF!,#REF!,5,0),\"\")","v":""},{"$f":"IFERROR(VLOOKUP(#REF!,#REF!,7,0),\"\")","v":""}]
[null,{"$f":"IFERROR(VLOOKUP(#REF!,#REF!,3,0),\"\")","v":""},{"$f":"IFERROR(VLOOKUP(#REF!,#REF!,4,0),\"\")","v":""},{"$f":"IFERROR(VLOOKUP(#REF!,#REF!,5,0),\"\")","v":""},{"$f":"IFERROR(VLOOKUP(#REF!,#REF!,7,0),\"\")","v":""}]
[null,{"$f":"IFERROR(VLOOKUP(#REF!,#REF!,3,0),\"\")","v":""},{"$f":"IFERROR(VLOOKUP(#REF!,#REF!,4,0),\"\")","v":""},{"$f":"IFERROR(VLOOKUP(#REF!,#REF!,5,0),\"\")","v":""},{"$f":"IFERROR(VLOOKUP(#REF!,#REF!,7,0),\"\")","v":""}]
[null,{"$f":"IFERROR(VLOOKUP(#REF!,#REF!,3,0),\"\")","v":""},{"$f":"IFERROR(VLOOKUP(#REF!,#REF!,4,0),\"\")","v":""},{"$f":"IFERROR(VLOOKUP(#REF!,#REF!,5,0),\"\")","v":""},{"$f":"IFERROR(VLOOKUP(#REF!,#REF!,7,0),\"\")","v":""}]
[null,{"$f":"IFERROR(VLOOKUP(#REF!,#REF!,3,0),\"\")","v":""},{"$f":"IFERROR(VLOOKUP(#REF!,#REF!,4,0),\"\")","v":""},{"$f":"IFERROR(VLOOKUP(#REF!,#REF!,5,0),\"\")","v":""},{"$f":"IFERROR(VLOOKUP(#REF!,#REF!,7,0),\"\")","v":""}]
[null,{"$f":"IFERROR(VLOOKUP(#REF!,#REF!,3,0),\"\")","v":""},{"$f":"IFERROR(VLOOKUP(#REF!,#REF!,4,0),\"\")","v":""},{"$f":"IFERROR(VLOOKUP(#REF!,#REF!,5,0),\"\")","v":""},{"$f":"IFERROR(VLOOKUP(#REF!,#REF!,7,0),\"\")","v":""}]
[null,{"$f":"IFERROR(VLOOKUP(#REF!,#REF!,3,0),\"\")","v":""},{"$f":"IFERROR(VLOOKUP(#REF!,#REF!,4,0),\"\")","v":""},{"$f":"IFERROR(VLOOKUP(#REF!,#REF!,5,0),\"\")","v":""},{"$f":"IFERROR(VLOOKUP(#REF!,#REF!,7,0),\"\")","v":""}]
[null,{"$f":"IFERROR(VLOOKUP(#REF!,#REF!,3,0),\"\")","v":""},{"$f":"IFERROR(VLOOKUP(#REF!,#REF!,4,0),\"\")","v":""},{"$f":"IFERROR(VLOOKUP(#REF!,#REF!,5,0),\"\")","v":""},{"$f":"IFERROR(VLOOKUP(#REF!,#REF!,7,0),\"\")","v":""}]
[null,{"$f":"IFERROR(VLOOKUP(#REF!,#REF!,3,0),\"\")","v":""},{"$f":"IFERROR(VLOOKUP(#REF!,#REF!,4,0),\"\")","v":""},{"$f":"IFERROR(VLOOKUP(#REF!,#REF!,5,0),\"\")","v":""},{"$f":"IFERROR(VLOOKUP(#REF!,#REF!,7,0),\"\")","v":""}]
[null,{"$f":"IFERROR(VLOOKUP(#REF!,#REF!,3,0),\"\")","v":""},{"$f":"IFERROR(VLOOKUP(#REF!,#REF!,4,0),\"\")","v":""},{"$f":"IFERROR(VLOOKUP(#REF!,#REF!,5,0),\"\")","v":""},{"$f":"IFERROR(VLOOKUP(#REF!,#REF!,7,0),\"\")","v":""}]
[null,{"$f":"IFERROR(VLOOKUP(#REF!,#REF!,3,0),\"\")","v":""},{"$f":"IFERROR(VLOOKUP(#REF!,#REF!,4,0),\"\")","v":""},{"$f":"IFERROR(VLOOKUP(#REF!,#REF!,5,0),\"\")","v":""},{"$f":"IFERROR(VLOOKUP(#REF!,#REF!,7,0),\"\")","v":""}]
[null,{"$f":"IFERROR(VLOOKUP(#REF!,#REF!,3,0),\"\")","v":""},{"$f":"IFERROR(VLOOKUP(#REF!,#REF!,4,0),\"\")","v":""},{"$f":"IFERROR(VLOOKUP(#REF!,#REF!,5,0),\"\")","v":""},{"$f":"IFERROR(VLOOKUP(#REF!,#REF!,7,0),\"\")","v":""}]
[null,{"$f":"IFERROR(VLOOKUP(#REF!,#REF!,3,0),\"\")","v":""},{"$f":"IFERROR(VLOOKUP(#REF!,#REF!,4,0),\"\")","v":""},{"$f":"IFERROR(VLOOKUP(#REF!,#REF!,5,0),\"\")","v":""},{"$f":"IFERROR(VLOOKUP(#REF!,#REF!,7,0),\"\")","v":""}]
[null,{"$f":"IFERROR(VLOOKUP(#REF!,#REF!,3,0),\"\")","v":""},{"$f":"IFERROR(VLOOKUP(#REF!,#REF!,4,0),\"\")","v":""},{"$f":"IFERROR(VLOOKUP(#REF!,#REF!,5,0),\"\")","v":""},{"$f":"IFERROR(VLOOKUP(#REF!,#REF!,7,0),\"\")","v":""}]
[null,{"$f":"IFERROR(VLOOKUP(#REF!,#REF!,3,0),\"\")","v":""},{"$f":"IFERROR(VLOOKUP(#REF!,#REF!,4,0),\"\")","v":""},{"$f":"IFERROR(VLOOKUP(#REF!,#REF!,5,0),\"\")","v":""},{"$f":"IFERROR(VLOOKUP(#REF!,#REF!,7,0),\"\")","v":""}]
[null,{"$f":"IFERROR(VLOOKUP(#REF!,#REF!,3,0),\"\")","v":""},{"$f":"IFERROR(VLOOKUP(#REF!,#REF!,4,0),\"\")","v":""},{"$f":"IFERROR(VLOOKUP(#REF!,#REF!,5,0),\"\")","v":""},{"$f":"IFERROR(VLOOKUP(#REF!,#REF!,7,0),\"\")","v":""}]
[null,{"$f":"IFERROR(VLOOKUP(#REF!,#REF!,3,0),\"\")","v":""},{"$f":"IFERROR(VLOOKUP(#REF!,#REF!,4,0),\"\")","v":""},{"$f":"IFERROR(VLOOKUP(#REF!,#REF!,5,0),\"\")","v":""},{"$f":"IFERROR(VLOOKUP(#REF!,#REF!,7,0),\"\")","v":""}]
[null,{"$f":"IFERROR(VLOOKUP(#REF!,#REF!,3,0),\"\")","v":""},{"$f":"IFERROR(VLOOKUP(#REF!,#REF!,4,0),\"\")","v":""},{"$f":"IFERROR(VLOOKUP(#REF!,#REF!,5,0),\"\")","v":""},{"$f":"IFERROR(VLOOKUP(#REF!,#REF!,7,0),\"\")","v":""}]
[null,{"$f":"IFERROR(VLOOKUP(#REF!,#REF!,3,0),\"\")","v":""},{"$f":"IFERROR(VLOOKUP(#REF!,#REF!,4,0),\"\")","v":""},{"$f":"IFERROR(VLOOKUP(#REF!,#REF!,5,0),\"\")","v":""},{"$f":"IFERROR(VLOOKUP(#REF!,#REF!,7,0),\"\")","v":""}]
[null,{"$f":"IFERROR(VLOOKUP(#REF!,#REF!,3,0),\"\")","v":""},{"$f":"IFERROR(VLOOKUP(#REF!,#REF!,4,0),\"\")","v":""},{"$f":"IFERROR(VLOOKUP(#REF!,#REF!,5,0),\"\")","v":""},{"$f":"IFERROR(VLOOKUP(#REF!,#REF!,7,0),\"\")","v":""}]
[null,{"$f":"IFERROR(VLOOKUP(#REF!,#REF!,3,0),\"\")","v":""},{"$f":"IFERROR(VLOOKUP(#REF!,#REF!,4,0),\"\")","v":""},{"$f":"IFERROR(VLOOKUP(#REF!,#REF!,5,0),\"\")","v":""},{"$f":"IFERROR(VLOOKUP(#REF!,#REF!,7,0),\"\")","v":""}]
[null,{"$f":"IFERROR(VLOOKUP(#REF!,#REF!,3,0),\"\")","v":""},{"$f":"IFERROR(VLOOKUP(#REF!,#REF!,4,0),\"\")","v":""},{"$f":"IFERROR(VLOOKUP(#REF!,#REF!,5,0),\"\")","v":""},{"$f":"IFERROR(VLOOKUP(#REF!,#REF!,7,0),\"\")","v":""}]
[null,{"$f":"IFERROR(VLOOKUP(#REF!,#REF!,3,0),\"\")","v":""},{"$f":"IFERROR(VLOOKUP(#REF!,#REF!,4,0),\"\")","v":""},{"$f":"IFERROR(VLOOKUP(#REF!,#REF!,5,0),\"\")","v":""},{"$f":"IFERROR(VLOOKUP(#REF!,#REF!,7,0),\"\")","v":""}]
[null,{"$f":"IFERROR(VLOOKUP(#REF!,#REF!,3,0),\"\")","v":""},{"$f":"IFERROR(VLOOKUP(#REF!,#REF!,4,0),\"\")","v":""},{"$f":"IFERROR(VLOOKUP(#REF!,#REF!,5,0),\"\")","v":""},{"$f":"IFERROR(VLOOKUP(#REF!,#REF!,7,0),\"\")","v":""}]
[null,{"$f":"IFERROR(VLOOKUP(#REF!,#REF!,3,0),\"\")","v":""},{"$f":"IFERROR(VLOOKUP(#REF!,#REF!,4,0),\"\")","v":""},{"$f":"IFERROR(VLOOKUP(#REF!,#REF!,5,0),\"\")","v":""},{"$f":"IFERROR(VLOOKUP(#REF!,#REF!,7,0),\"\")","v":""}]
[null,{"$f":"IFERROR(VLOOKUP(#REF!,#REF!,3,0),\"\")","v":""},{"$f":"IFERROR(VLOOKUP(#REF!,#REF!,4,0),\"\")","v":""},{"$f":"IFERROR(VLOOKUP(#REF!,#REF!,5,0),\"\")","v":""},{"$f":"IFERROR(VLOOKUP(#REF!,#REF!,7,0),\"\")","v":""}]
[null,{"$f":"IFERROR(VLOOKUP(#REF!,#REF!,3,0),\"\")","v":""},{"$f":"IFERROR(VLOOKUP(#REF!,#REF!,4,0),\"\")","v":""},{"$f":"IFERROR(VLOOKUP(#REF!,#REF!,5,0),\"\")","v":""},{"$f":"IFERROR(VLOOKUP(#REF!,#REF!,7,0),\"\")","v":""}]
[null,{"$f":"IFERROR(VLOOKUP(#REF!,#REF!,3,0),\"\")","v":""},{"$f":"IFERROR(VLOOKUP(#REF!,#REF!,4,0),\"\")","v":""},{"$f":"IFERROR(VLOOKUP(#REF!,#REF!,5,0),\"\")","v":""},{"$f":"IFERROR(VLOOKUP(#REF!,#REF!,7,0),\"\")","v":""}]
[null,{"$f":"IFERROR(VLOOKUP(#REF!,#REF!,3,0),\"\")","v":""},{"$f":"IFERROR(VLOOKUP(#REF!,#REF!,4,0),\"\")","v":""},{"$f":"IFERROR(VLOOKUP(#REF!,#REF!,5,0),\"\")","v":""},{"$f":"IFERROR(VLOOKUP(#REF!,#REF!,7,0),\"\")","v":""}]
[null,{"$f":"IFERROR(VLOOKUP(#REF!,#REF!,3,0),\"\")","v":""},{"$f":"IFERROR(VLOOKUP(#REF!,#REF!,4,0),\"\")","v":""},{"$f":"IFERROR(VLOOKUP(#REF!,#REF!,5,0),\"\")","v":""},{"$f":"IFERROR(VLOOKUP(#REF!,#REF!,7,0),\"\")","v":""}]
[null,{"$f":"IFERROR(VLOOKUP(#REF!,#REF!,3,0),\"\")","v":""},{"$f":"IFERROR(VLOOKUP(#REF!,#REF!,4,0),\"\")","v":""},{"$f":"IFERROR(VLOOKUP(#REF!,#REF!,5,0),\"\")","v":""},{"$f":"IFERROR(VLOOKUP(#REF!,#REF!,7,0),\"\")","v":""}]
[null,{"$f":"IFERROR(VLOOKUP(#REF!,#REF!,3,0),\"\")","v":""},{"$f":"IFERROR(VLOOKUP(#REF!,#REF!,4,0),\"\")","v":""},{"$f":"IFERROR(VLOOKUP(#REF!,#REF!,5,0),\"\")","v":""},{"$f":"IFERROR(VLOOKUP(#REF!,#REF!,7,0),\"\")","v":""}]
[null,{"$f":"IFERROR(VLOOKUP(#REF!,#REF!,3,0),\"\")","v":""},{"$f":"IFERROR(VLOOKUP(#REF!,#REF!,4,0),\"\")","v":""},{"$f":"IFERROR(VLOOKUP(#REF!,#REF!,5,0),\"\")","v":""},{"$f":"IFERROR(VLOOKUP(#REF!,#REF!,7,0),\"\")","v":""}]
[null,{"$f":"IFERROR(VLOOKUP(#REF!,#REF!,3,0),\"\")","v":""},{"$f":"IFERROR(VLOOKUP(#REF!,#REF!,4,0),\"\")","v":""},{"$f":"IFERROR(VLOOKUP(#REF!,#REF!,5,0),\"\")","v":""},{"$f":"IFERROR(VLOOKUP(#REF!,#REF!,7,0),\"\")","v":""}]
[null,{"$f":"IFERROR(VLOOKUP(#REF!,#REF!,3,0),\"\")","v":""},{"$f":"IFERROR(VLOOKUP(#REF!,#REF!,4,0),\"\")","v":""},{"$f":"IFERROR(VLOOKUP(#REF!,#REF!,5,0),\"\")","v":""},{"$f":"IFERROR(VLOOKUP(#REF!,#REF!,7,0),\"\")","v":""}]
[null,{"$f":"IFERROR(VLOOKUP(#REF!,#REF!,3,0),\"\")","v":""},{"$f":"IFERROR(VLOOKUP(#REF!,#REF!,4,0),\"\")","v":""},{"$f":"IFERROR(VLOOKUP(#REF!,#REF!,5,0),\"\")","v":""},{"$f":"IFERROR(VLOOKUP(#REF!,#REF!,7,0),\"\")","v":""}]
[null,{"$f":"IFERROR(VLOOKUP(#REF!,#REF!,3,0),\"\")","v":""},{"$f":"IFERROR(VLOOKUP(#REF!,#REF!,4,0),\"\")","v":""},{"$f":"IFERROR(VLOOKUP(#REF!,#REF!,5,0),\"\")","v":""},{"$f":"IFERROR(VLOOKUP(#REF!,#REF!,7,0),\"\")","v":""}]
[null,{"$f":"IFERROR(VLOOKUP(#REF!,#REF!,3,0),\"\")","v":""},{"$f":"IFERROR(VLOOKUP(#REF!,#REF!,4,0),\"\")","v":""},{"$f":"IFERROR(VLOOKUP(#REF!,#REF!,5,0),\"\")","v":""},{"$f":"IFERROR(VLOOKUP(#REF!,#REF!,7,0),\"\")","v":""}]
[null,{"$f":"IFERROR(VLOOKUP(#REF!,#REF!,3,0),\"\")","v":""},{"$f":"IFERROR(VLOOKUP(#REF!,#REF!,4,0),\"\")","v":""},{"$f":"IFERROR(VLOOKUP(#REF!,#REF!,5,0),\"\")","v":""},{"$f":"IFERROR(VLOOKUP(#REF!,#REF!,7,0),\"\")","v":""}]
[null,{"$f":"IFERROR(VLOOKUP(#REF!,#REF!,3,0),\"\")","v":""},{"$f":"IFERROR(VLOOKUP(#REF!,#REF!,4,0),\"\")","v":""},{"$f":"IFERROR(VLOOKUP(#REF!,#REF!,5,0),\"\")","v":""},{"$f":"IFERROR(VLOOKUP(#REF!,#REF!,7,0),\"\")","v":""}]
[null,{"$f":"IFERROR(VLOOKUP(#REF!,#REF!,3,0),\"\")","v":""},{"$f":"IFERROR(VLOOKUP(#REF!,#REF!,4,0),\"\")","v":""},{"$f":"IFERROR(VLOOKUP(#REF!,#REF!,5,0),\"\")","v":""},{"$f":"IFERROR(VLOOKUP(#REF!,#REF!,7,0),\"\")","v":""}]
[null,{"$f":"IFERROR(VLOOKUP(#REF!,#REF!,3,0),\"\")","v":""},{"$f":"IFERROR(VLOOKUP(#REF!,#REF!,4,0),\"\")","v":""},{"$f":"IFERROR(VLOOKUP(#REF!,#REF!,5,0),\"\")","v":""},{"$f":"IFERROR(VLOOKUP(#REF!,#REF!,7,0),\"\")","v":""}]
[null,{"$f":"IFERROR(VLOOKUP(#REF!,#REF!,3,0),\"\")","v":""},{"$f":"IFERROR(VLOOKUP(#REF!,#REF!,4,0),\"\")","v":""},{"$f":"IFERROR(VLOOKUP(#REF!,#REF!,5,0),\"\")","v":""},{"$f":"IFERROR(VLOOKUP(#REF!,#REF!,7,0),\"\")","v":""}]
[null,{"$f":"IFERROR(VLOOKUP(#REF!,#REF!,3,0),\"\")","v":""},{"$f":"IFERROR(VLOOKUP(#REF!,#REF!,4,0),\"\")","v":""},{"$f":"IFERROR(VLOOKUP(#REF!,#REF!,5,0),\"\")","v":""},{"$f":"IFERROR(VLOOKUP(#REF!,#REF!,7,0),\"\")","v":""}]
[null,{"$f":"IFERROR(VLOOKUP(#REF!,#REF!,3,0),\"\")","v":""},{"$f":"IFERROR(VLOOKUP(#REF!,#REF!,4,0),\"\")","v":""},{"$f":"IFERROR(VLOOKUP(#REF!,#REF!,5,0),\"\")","v":""},{"$f":"IFERROR(VLOOKUP(#REF!,#REF!,7,0),\"\")","v":""}]
[null,{"$f":"IFERROR(VLOOKUP(#REF!,#REF!,3,0),\"\")","v":""},{"$f":"IFERROR(VLOOKUP(#REF!,#REF!,4,0),\"\")","v":""},{"$f":"IFERROR(VLOOKUP(#REF!,#REF!,5,0),\"\")","v":""},{"$f":"IFERROR(VLOOKUP(#REF!,#REF!,7,0),\"\")","v":""}]
[null,{"$f":"IFERROR(VLOOKUP(#REF!,#REF!,3,0),\"\")","v":""},{"$f":"IFERROR(VLOOKUP(#REF!,#REF!,4,0),\"\")","v":""},{"$f":"IFERROR(VLOOKUP(#REF!,#REF!,5,0),\"\")","v":""},{"$f":"IFERROR(VLOOKUP(#REF!,#REF!,7,0),\"\")","v":""}]
[null,{"$f":"IFERROR(VLOOKUP(#REF!,#REF!,3,0),\"\")","v":""},{"$f":"IFERROR(VLOOKUP(#REF!,#REF!,4,0),\"\")","v":""},{"$f":"IFERROR(VLOOKUP(#REF!,#REF!,5,0),\"\")","v":""},{"$f":"IFERROR(VLOOKUP(#REF!,#REF!,7,0),\"\")","v":""}]
[null,{"$f":"IFERROR(VLOOKUP(#REF!,#REF!,3,0),\"\")","v":""},{"$f":"IFERROR(VLOOKUP(#REF!,#REF!,4,0),\"\")","v":""},{"$f":"IFERROR(VLOOKUP(#REF!,#REF!,5,0),\"\")","v":""},{"$f":"IFERROR(VLOOKUP(#REF!,#REF!,7,0),\"\")","v":""}]
[null,{"$f":"IFERROR(VLOOKUP(#REF!,#REF!,3,0),\"\")","v":""},{"$f":"IFERROR(VLOOKUP(#REF!,#REF!,4,0),\"\")","v":""},{"$f":"IFERROR(VLOOKUP(#REF!,#REF!,5,0),\"\")","v":""},{"$f":"IFERROR(VLOOKUP(#REF!,#REF!,7,0),\"\")","v":""}]
[null,{"$f":"IFERROR(VLOOKUP(#REF!,#REF!,3,0),\"\")","v":""},{"$f":"IFERROR(VLOOKUP(#REF!,#REF!,4,0),\"\")","v":""},{"$f":"IFERROR(VLOOKUP(#REF!,#REF!,5,0),\"\")","v":""},{"$f":"IFERROR(VLOOKUP(#REF!,#REF!,7,0),\"\")","v":""}]
[null,{"$f":"IFERROR(VLOOKUP(#REF!,#REF!,3,0),\"\")","v":""},{"$f":"IFERROR(VLOOKUP(#REF!,#REF!,4,0),\"\")","v":""},{"$f":"IFERROR(VLOOKUP(#REF!,#REF!,5,0),\"\")","v":""},{"$f":"IFERROR(VLOOKUP(#REF!,#REF!,7,0),\"\")","v":""}]
[null,{"$f":"IFERROR(VLOOKUP(#REF!,#REF!,3,0),\"\")","v":""},{"$f":"IFERROR(VLOOKUP(#REF!,#REF!,4,0),\"\")","v":""},{"$f":"IFERROR(VLOOKUP(#REF!,#REF!,5,0),\"\")","v":""},{"$f":"IFERROR(VLOOKUP(#REF!,#REF!,7,0),\"\")","v":""}]
[null,{"$f":"IFERROR(VLOOKUP(#REF!,#REF!,3,0),\"\")","v":""},{"$f":"IFERROR(VLOOKUP(#REF!,#REF!,4,0),\"\")","v":""},{"$f":"IFERROR(VLOOKUP(#REF!,#REF!,5,0),\"\")","v":""},{"$f":"IFERROR(VLOOKUP(#REF!,#REF!,7,0),\"\")","v":""}]
[null,{"$f":"IFERROR(VLOOKUP(#REF!,#REF!,3,0),\"\")","v":""},{"$f":"IFERROR(VLOOKUP(#REF!,#REF!,4,0),\"\")","v":""},{"$f":"IFERROR(VLOOKUP(#REF!,#REF!,5,0),\"\")","v":""},{"$f":"IFERROR(VLOOKUP(#REF!,#REF!,7,0),\"\")","v":""}]
[null,{"$f":"IFERROR(VLOOKUP(#REF!,#REF!,3,0),\"\")","v":""},{"$f":"IFERROR(VLOOKUP(#REF!,#REF!,4,0),\"\")","v":""},{"$f":"IFERROR(VLOOKUP(#REF!,#REF!,5,0),\"\")","v":""},{"$f":"IFERROR(VLOOKUP(#REF!,#REF!,7,0),\"\")","v":""}]
[null,{"$f":"IFERROR(VLOOKUP(#REF!,#REF!,3,0),\"\")","v":""},{"$f":"IFERROR(VLOOKUP(#REF!,#REF!,4,0),\"\")","v":""},{"$f":"IFERROR(VLOOKUP(#REF!,#REF!,5,0),\"\")","v":""},{"$f":"IFERROR(VLOOKUP(#REF!,#REF!,7,0),\"\")","v":""}]
[null,{"$f":"IFERROR(VLOOKUP(#REF!,#REF!,3,0),\"\")","v":""},{"$f":"IFERROR(VLOOKUP(#REF!,#REF!,4,0),\"\")","v":""},{"$f":"IFERROR(VLOOKUP(#REF!,#REF!,5,0),\"\")","v":""},{"$f":"IFERROR(VLOOKUP(#REF!,#REF!,7,0),\"\")","v":""}]
[null,{"$f":"IFERROR(VLOOKUP(#REF!,#REF!,3,0),\"\")","v":""},{"$f":"IFERROR(VLOOKUP(#REF!,#REF!,4,0),\"\")","v":""},{"$f":"IFERROR(VLOOKUP(#REF!,#REF!,5,0),\"\")","v":""},{"$f":"IFERROR(VLOOKUP(#REF!,#REF!,7,0),\"\")","v":""}]
[null,{"$f":"IFERROR(VLOOKUP(#REF!,#REF!,3,0),\"\")","v":""},{"$f":"IFERROR(VLOOKUP(#REF!,#REF!,4,0),\"\")","v":""},{"$f":"IFERROR(VLOOKUP(#REF!,#REF!,5,0),\"\")","v":""},{"$f":"IFERROR(VLOOKUP(#REF!,#REF!,7,0),\"\")","v":""}]
[null,{"$f":"IFERROR(VLOOKUP(#REF!,#REF!,3,0),\"\")","v":""},{"$f":"IFERROR(VLOOKUP(#REF!,#REF!,4,0),\"\")","v":""},{"$f":"IFERROR(VLOOKUP(#REF!,#REF!,5,0),\"\")","v":""},{"$f":"IFERROR(VLOOKUP(#REF!,#REF!,7,0),\"\")","v":""}]
[null,{"$f":"IFERROR(VLOOKUP(#REF!,#REF!,3,0),\"\")","v":""},{"$f":"IFERROR(VLOOKUP(#REF!,#REF!,4,0),\"\")","v":""},{"$f":"IFERROR(VLOOKUP(#REF!,#REF!,5,0),\"\")","v":""},{"$f":"IFERROR(VLOOKUP(#REF!,#REF!,7,0),\"\")","v":""}]
[null,{"$f":"IFERROR(VLOOKUP(#REF!,#REF!,3,0),\"\")","v":""},{"$f":"IFERROR(VLOOKUP(#REF!,#REF!,4,0),\"\")","v":""},{"$f":"IFERROR(VLOOKUP(#REF!,#REF!,5,0),\"\")","v":""},{"$f":"IFERROR(VLOOKUP(#REF!,#REF!,7,0),\"\")","v":""}]
[null,{"$f":"IFERROR(VLOOKUP(#REF!,#REF!,3,0),\"\")","v":""},{"$f":"IFERROR(VLOOKUP(#REF!,#REF!,4,0),\"\")","v":""},{"$f":"IFERROR(VLOOKUP(#REF!,#REF!,5,0),\"\")","v":""},{"$f":"IFERROR(VLOOKUP(#REF!,#REF!,7,0),\"\")","v":""}]
[null,{"$f":"IFERROR(VLOOKUP(#REF!,#REF!,3,0),\"\")","v":""},{"$f":"IFERROR(VLOOKUP(#REF!,#REF!,4,0),\"\")","v":""},{"$f":"IFERROR(VLOOKUP(#REF!,#REF!,5,0),\"\")","v":""},{"$f":"IFERROR(VLOOKUP(#REF!,#REF!,7,0),\"\")","v":""}]
[null,{"$f":"IFERROR(VLOOKUP(#REF!,#REF!,3,0),\"\")","v":""},{"$f":"IFERROR(VLOOKUP(#REF!,#REF!,4,0),\"\")","v":""},{"$f":"IFERROR(VLOOKUP(#REF!,#REF!,5,0),\"\")","v":""},{"$f":"IFERROR(VLOOKUP(#REF!,#REF!,7,0),\"\")","v":""}]
[null,{"$f":"IFERROR(VLOOKUP(#REF!,#REF!,3,0),\"\")","v":""},{"$f":"IFERROR(VLOOKUP(#REF!,#REF!,4,0),\"\")","v":""},{"$f":"IFERROR(VLOOKUP(#REF!,#REF!,5,0),\"\")","v":""},{"$f":"IFERROR(VLOOKUP(#REF!,#REF!,7,0),\"\")","v":""}]
[null,{"$f":"IFERROR(VLOOKUP(#REF!,#REF!,3,0),\"\")","v":""},{"$f":"IFERROR(VLOOKUP(#REF!,#REF!,4,0),\"\")","v":""},{"$f":"IFERROR(VLOOKUP(#REF!,#REF!,5,0),\"\")","v":""},{"$f":"IFERROR(VLOOKUP(#REF!,#REF!,7,0),\"\")","v":""}]
[null,{"$f":"IFERROR(VLOOKUP(#REF!,#REF!,3,0),\"\")","v":""},{"$f":"IFERROR(VLOOKUP(#REF!,#REF!,4,0),\"\")","v":""},{"$f":"IFERROR(VLOOKUP(#REF!,#REF!,5,0),\"\")","v":""},{"$f":"IFERROR(VLOOKUP(#REF!,#REF!,7,0),\"\")","v":""}]
[null,{"$f":"IFERROR(VLOOKUP(#REF!,#REF!,3,0),\"\")","v":""},{"$f":"IFERROR(VLOOKUP(#REF!,#REF!,4,0),\"\")","v":""},{"$f":"IFERROR(VLOOKUP(#REF!,#REF!,5,0),\"\")","v":""},{"$f":"IFERROR(VLOOKUP(#REF!,#REF!,7,0),\"\")","v":""}]
[null,{"$f":"IFERROR(VLOOKUP(#REF!,#REF!,3,0),\"\")","v":""},{"$f":"IFERROR(VLOOKUP(#REF!,#REF!,4,0),\"\")","v":""},{"$f":"IFERROR(VLOOKUP(#REF!,#REF!,5,0),\"\")","v":""},{"$f":"IFERROR(VLOOKUP(#REF!,#REF!,7,0),\"\")","v":""}]
[null,{"$f":"IFERROR(VLOOKUP(#REF!,#REF!,3,0),\"\")","v":""},{"$f":"IFERROR(VLOOKUP(#REF!,#REF!,4,0),\"\")","v":""},{"$f":"IFERROR(VLOOKUP(#REF!,#REF!,5,0),\"\")","v":""},{"$f":"IFERROR(VLOOKUP(#REF!,#REF!,7,0),\"\")","v":""}]
[null,{"$f":"IFERROR(VLOOKUP(#REF!,#REF!,3,0),\"\")","v":""},{"$f":"IFERROR(VLOOKUP(#REF!,#REF!,4,0),\"\")","v":""},{"$f":"IFERROR(VLOOKUP(#REF!,#REF!,5,0),\"\")","v":""},{"$f":"IFERROR(VLOOKUP(#REF!,#REF!,7,0),\"\")","v":""}]
[null,{"$f":"IFERROR(VLOOKUP(#REF!,#REF!,3,0),\"\")","v":""},{"$f":"IFERROR(VLOOKUP(#REF!,#REF!,4,0),\"\")","v":""},{"$f":"IFERROR(VLOOKUP(#REF!,#REF!,5,0),\"\")","v":""},{"$f":"IFERROR(VLOOKUP(#REF!,#REF!,7,0),\"\")","v":""}]
[null,{"$f":"IFERROR(VLOOKUP(#REF!,#REF!,3,0),\"\")","v":""},{"$f":"IFERROR(VLOOKUP(#REF!,#REF!,4,0),\"\")","v":""},{"$f":"IFERROR(VLOOKUP(#REF!,#REF!,5,0),\"\")","v":""},{"$f":"IFERROR(VLOOKUP(#REF!,#REF!,7,0),\"\")","v":""}]
[null,{"$f":"IFERROR(VLOOKUP(#REF!,#REF!,3,0),\"\")","v":""},{"$f":"IFERROR(VLOOKUP(#REF!,#REF!,4,0),\"\")","v":""},{"$f":"IFERROR(VLOOKUP(#REF!,#REF!,5,0),\"\")","v":""},{"$f":"IFERROR(VLOOKUP(#REF!,#REF!,7,0),\"\")","v":""}]
[null,{"$f":"IFERROR(VLOOKUP(#REF!,#REF!,3,0),\"\")","v":""},{"$f":"IFERROR(VLOOKUP(#REF!,#REF!,4,0),\"\")","v":""},{"$f":"IFERROR(VLOOKUP(#REF!,#REF!,5,0),\"\")","v":""},{"$f":"IFERROR(VLOOKUP(#REF!,#REF!,7,0),\"\")","v":""}]
[null,{"$f":"IFERROR(VLOOKUP(#REF!,#REF!,3,0),\"\")","v":""},{"$f":"IFERROR(VLOOKUP(#REF!,#REF!,4,0),\"\")","v":""},{"$f":"IFERROR(VLOOKUP(#REF!,#REF!,5,0),\"\")","v":""},{"$f":"IFERROR(VLOOKUP(#REF!,#REF!,7,0),\"\")","v":""}]
[null,{"$f":"IFERROR(VLOOKUP(#REF!,#REF!,3,0),\"\")","v":""},{"$f":"IFERROR(VLOOKUP(#REF!,#REF!,4,0),\"\")","v":""},{"$f":"IFERROR(VLOOKUP(#REF!,#REF!,5,0),\"\")","v":""},{"$f":"IFERROR(VLOOKUP(#REF!,#REF!,7,0),\"\")","v":""}]
[null,{"$f":"IFERROR(VLOOKUP(#REF!,#REF!,3,0),\"\")","v":""},{"$f":"IFERROR(VLOOKUP(#REF!,#REF!,4,0),\"\")","v":""},{"$f":"IFERROR(VLOOKUP(#REF!,#REF!,5,0),\"\")","v":""},{"$f":"IFERROR(VLOOKUP(#REF!,#REF!,7,0),\"\")","v":""}]
[null,{"$f":"IFERROR(VLOOKUP(#REF!,#REF!,3,0),\"\")","v":""},{"$f":"IFERROR(VLOOKUP(#REF!,#REF!,4,0),\"\")","v":""},{"$f":"IFERROR(VLOOKUP(#REF!,#REF!,5,0),\"\")","v":""},{"$f":"IFERROR(VLOOKUP(#REF!,#REF!,7,0),\"\")","v":""}]
[null,{"$f":"IFERROR(VLOOKUP(#REF!,#REF!,3,0),\"\")","v":""},{"$f":"IFERROR(VLOOKUP(#REF!,#REF!,4,0),\"\")","v":""},{"$f":"IFERROR(VLOOKUP(#REF!,#REF!,5,0),\"\")","v":""},{"$f":"IFERROR(VLOOKUP(#REF!,#REF!,7,0),\"\")","v":""}]
[null,{"$f":"IFERROR(VLOOKUP(#REF!,#REF!,3,0),\"\")","v":""},{"$f":"IFERROR(VLOOKUP(#REF!,#REF!,4,0),\"\")","v":""},{"$f":"IFERROR(VLOOKUP(#REF!,#REF!,5,0),\"\")","v":""},{"$f":"IFERROR(VLOOKUP(#REF!,#REF!,7,0),\"\")","v":""}]
[null,{"$f":"IFERROR(VLOOKUP(#REF!,#REF!,3,0),\"\")","v":""},{"$f":"IFERROR(VLOOKUP(#REF!,#REF!,4,0),\"\")","v":""},{"$f":"IFERROR(VLOOKUP(#REF!,#REF!,5,0),\"\")","v":""},{"$f":"IFERROR(VLOOKUP(#REF!,#REF!,7,0),\"\")","v":""}]
[null,{"$f":"IFERROR(VLOOKUP(#REF!,#REF!,3,0),\"\")","v":""},{"$f":"IFERROR(VLOOKUP(#REF!,#REF!,4,0),\"\")","v":""},{"$f":"IFERROR(VLOOKUP(#REF!,#REF!,5,0),\"\")","v":""},{"$f":"IFERROR(VLOOKUP(#REF!,#REF!,7,0),\"\")","v":""}]
[null,{"$f":"IFERROR(VLOOKUP(#REF!,#REF!,3,0),\"\")","v":""},{"$f":"IFERROR(VLOOKUP(#REF!,#REF!,4,0),\"\")","v":""},{"$f":"IFERROR(VLOOKUP(#REF!,#REF!,5,0),\"\")","v":""},{"$f":"IFERROR(VLOOKUP(#REF!,#REF!,7,0),\"\")","v":""}]
[null,{"$f":"IFERROR(VLOOKUP(#REF!,#REF!,3,0),\"\")","v":""},{"$f":"IFERROR(VLOOKUP(#REF!,#REF!,4,0),\"\")","v":""},{"$f":"IFERROR(VLOOKUP(#REF!,#REF!,5,0),\"\")","v":""},{"$f":"IFERROR(VLOOKUP(#REF!,#REF!,7,0),\"\")","v":""}]
[null,{"$f":"IFERROR(VLOOKUP(#REF!,#REF!,3,0),\"\")","v":""},{"$f":"IFERROR(VLOOKUP(#REF!,#REF!,4,0),\"\")","v":""},{"$f":"IFERROR(VLOOKUP(#REF!,#REF!,5,0),\"\")","v":""},{"$f":"IFERROR(VLOOKUP(#REF!,#REF!,7,0),\"\")","v":""}]
[null,{"$f":"IFERROR(VLOOKUP(#REF!,#REF!,3,0),\"\")","v":""},{"$f":"IFERROR(VLOOKUP(#REF!,#REF!,4,0),\"\")","v":""},{"$f":"IFERROR(VLOOKUP(#REF!,#REF!,5,0),\"\")","v":""},{"$f":"IFERROR(VLOOKUP(#REF!,#REF!,7,0),\"\")","v":""}]
[null,{"$f":"IFERROR(VLOOKUP(#REF!,#REF!,3,0),\"\")","v":""},{"$f":"IFERROR(VLOOKUP(#REF!,#REF!,4,0),\"\")","v":""},{"$f":"IFERROR(VLOOKUP(#REF!,#REF!,5,0),\"\")","v":""},{"$f":"IFERROR(VLOOKUP(#REF!,#REF!,7,0),\"\")","v":""}]
[null,{"$f":"IFERROR(VLOOKUP(#REF!,#REF!,3,0),\"\")","v":""},{"$f":"IFERROR(VLOOKUP(#REF!,#REF!,4,0),\"\")","v":""},{"$f":"IFERROR(VLOOKUP(#REF!,#REF!,5,0),\"\")","v":""},{"$f":"IFERROR(VLOOKUP(#REF!,#REF!,7,0),\"\")","v":""}]
[null,{"$f":"IFERROR(VLOOKUP(#REF!,#REF!,3,0),\"\")","v":""},{"$f":"IFERROR(VLOOKUP(#REF!,#REF!,4,0),\"\")","v":""},{"$f":"IFERROR(VLOOKUP(#REF!,#REF!,5,0),\"\")","v":""},{"$f":"IFERROR(VLOOKUP(#REF!,#REF!,7,0),\"\")","v":""}]
[null,{"$f":"IFERROR(VLOOKUP(#REF!,#REF!,3,0),\"\")","v":""},{"$f":"IFERROR(VLOOKUP(#REF!,#REF!,4,0),\"\")","v":""},{"$f":"IFERROR(VLOOKUP(#REF!,#REF!,5,0),\"\")","v":""},{"$f":"IFERROR(VLOOKUP(#REF!,#REF!,7,0),\"\")","v":""}]